Package: geva Version: 1.17.0 Command: chmod a+r geva -R && F:\biocbuild\bbs-3.22-bioc\R\bin\R.exe CMD build --keep-empty-dirs --no-resave-data geva StartedAt: 2025-07-18 19:23:26 -0400 (Fri, 18 Jul 2025) EndedAt: 2025-07-18 19:28:15 -0400 (Fri, 18 Jul 2025) EllapsedTime: 288.4 seconds RetCode: 0 Status: OK PackageFile: geva_1.17.0.tar.gz PackageFileSize: 1015 KiB