Package: geva Version: 1.17.0 Command: /home/biocbuild/bbs-3.22-bioc/R/bin/R CMD check --install=check:geva.install-out.txt --library=/home/biocbuild/bbs-3.22-bioc/R/site-library --timings geva_1.17.0.tar.gz StartedAt: 2025-07-14 22:45:23 -0400 (Mon, 14 Jul 2025) EndedAt: 2025-07-14 22:49:32 -0400 (Mon, 14 Jul 2025) EllapsedTime: 249.3 seconds RetCode: 0 Status: OK CheckDir: geva.Rcheck Warnings: 0