Package: geva Version: 1.17.0 Command: /home/biocbuild/bbs-3.22-bioc/R/bin/R CMD build --keep-empty-dirs --no-resave-data --md5 geva StartedAt: 2025-07-14 17:26:25 -0400 (Mon, 14 Jul 2025) EndedAt: 2025-07-14 17:28:09 -0400 (Mon, 14 Jul 2025) EllapsedTime: 104.1 seconds RetCode: 0 Status: OK PackageFile: geva_1.17.0.tar.gz PackageFileSize: 2.32 MiB