Package: geva Version: 1.17.0 Command: /Library/Frameworks/R.framework/Resources/bin/R CMD build --keep-empty-dirs --no-resave-data geva StartedAt: 2025-07-18 16:56:10 -0400 (Fri, 18 Jul 2025) EndedAt: 2025-07-18 16:58:04 -0400 (Fri, 18 Jul 2025) EllapsedTime: 113.8 seconds RetCode: 0 Status: OK PackageFile: geva_1.17.0.tar.gz PackageFileSize: 2.215 MiB