Package: geva Version: 1.17.0 Command: /Library/Frameworks/R.framework/Resources/bin/R CMD INSTALL geva StartedAt: 2025-07-16 15:03:56 -0400 (Wed, 16 Jul 2025) EndedAt: 2025-07-16 15:04:06 -0400 (Wed, 16 Jul 2025) EllapsedTime: 10.3 seconds RetCode: 0 Status: OK