Package: geva Version: 1.17.0 Command: /Library/Frameworks/R.framework/Resources/bin/R CMD build --keep-empty-dirs --no-resave-data geva StartedAt: 2025-07-16 16:25:32 -0400 (Wed, 16 Jul 2025) EndedAt: 2025-07-16 16:26:16 -0400 (Wed, 16 Jul 2025) EllapsedTime: 43.4 seconds RetCode: 0 Status: OK PackageFile: geva_1.17.0.tar.gz PackageFileSize: 2.244 MiB