Package: geva Version: 1.17.0 Command: rm -rf geva.buildbin-libdir && mkdir geva.buildbin-libdir && /Users/biocbuild/BBS/utils/build-universal.sh geva_1.17.0.tar.gz /Library/Frameworks/R.framework/Resources/bin/R geva.buildbin-libdir StartedAt: 2025-07-16 22:19:55 -0400 (Wed, 16 Jul 2025) EndedAt: 2025-07-16 22:19:58 -0400 (Wed, 16 Jul 2025) EllapsedTime: 3.0 seconds RetCode: 0 Status: OK PackageFile: geva_1.17.0.tgz PackageFileSize: 2.713 MiB