Package: genomicInstability Version: 1.15.0 Command: /home/biocbuild/R/R/bin/R CMD check --install=check:genomicInstability.install-out.txt --library=/home/biocbuild/R/R/site-library --no-vignettes --timings genomicInstability_1.15.0.tar.gz StartedAt: 2025-07-11 08:34:30 -0000 (Fri, 11 Jul 2025) EndedAt: 2025-07-11 08:52:28 -0000 (Fri, 11 Jul 2025) EllapsedTime: 1078.8 seconds RetCode: 0 Status: OK CheckDir: genomicInstability.Rcheck Warnings: 0