Package: genomicInstability Version: 1.15.0 Command: /home/biocbuild/R/R/bin/R CMD build --keep-empty-dirs --no-resave-data genomicInstability StartedAt: 2025-07-11 01:03:08 -0000 (Fri, 11 Jul 2025) EndedAt: 2025-07-11 01:05:06 -0000 (Fri, 11 Jul 2025) EllapsedTime: 118.1 seconds RetCode: 0 Status: OK PackageFile: genomicInstability_1.15.0.tar.gz PackageFileSize: 1.213 MiB