Package: genomicInstability Version: 1.15.0 Command: F:\biocbuild\bbs-3.22-bioc\R\bin\R.exe CMD INSTALL genomicInstability StartedAt: 2025-07-16 16:32:49 -0400 (Wed, 16 Jul 2025) EndedAt: 2025-07-16 16:33:40 -0400 (Wed, 16 Jul 2025) EllapsedTime: 51.3 seconds RetCode: 0 Status: OK