Package: genomicInstability Version: 1.15.0 Command: rm -rf genomicInstability.buildbin-libdir && mkdir genomicInstability.buildbin-libdir && F:\biocbuild\bbs-3.22-bioc\R\bin\R.exe CMD INSTALL --build --library=genomicInstability.buildbin-libdir genomicInstability_1.15.0.tar.gz StartedAt: 2025-07-17 09:02:29 -0400 (Thu, 17 Jul 2025) EndedAt: 2025-07-17 09:03:16 -0400 (Thu, 17 Jul 2025) EllapsedTime: 46.2 seconds RetCode: 0 Status: OK PackageFile: genomicInstability_1.15.0.zip PackageFileSize: 1.088 MiB