Package: genomes Version: 3.39.0 Command: /home/biocbuild/R/R/bin/R CMD check --install=check:genomes.install-out.txt --library=/home/biocbuild/R/R/site-library --no-vignettes --timings genomes_3.39.0.tar.gz StartedAt: 2025-07-22 07:35:53 -0000 (Tue, 22 Jul 2025) EndedAt: 2025-07-22 07:36:24 -0000 (Tue, 22 Jul 2025) EllapsedTime: 31.0 seconds RetCode: 0 Status: OK CheckDir: genomes.Rcheck Warnings: 0