Package: genomes Version: 3.39.0 Command: /home/biocbuild/bbs-3.22-bioc/R/bin/R CMD INSTALL genomes StartedAt: 2025-07-07 15:09:03 -0400 (Mon, 07 Jul 2025) EndedAt: 2025-07-07 15:09:09 -0400 (Mon, 07 Jul 2025) EllapsedTime: 5.6 seconds RetCode: 0 Status: OK