Package: genomes Version: 3.39.0 Command: /home/biocbuild/bbs-3.22-bioc/R/bin/R CMD check --install=check:genomes.install-out.txt --library=/home/biocbuild/bbs-3.22-bioc/R/site-library --timings genomes_3.39.0.tar.gz StartedAt: 2025-07-07 22:36:54 -0400 (Mon, 07 Jul 2025) EndedAt: 2025-07-07 22:37:18 -0400 (Mon, 07 Jul 2025) EllapsedTime: 24.0 seconds RetCode: 0 Status: OK CheckDir: genomes.Rcheck Warnings: 0