Package: genomes Version: 3.39.0 Command: /Library/Frameworks/R.framework/Resources/bin/R CMD INSTALL genomes StartedAt: 2025-07-24 15:23:38 -0400 (Thu, 24 Jul 2025) EndedAt: 2025-07-24 15:24:08 -0400 (Thu, 24 Jul 2025) EllapsedTime: 30.2 seconds RetCode: 0 Status: OK