Package: genomes Version: 3.39.0 Command: /Library/Frameworks/R.framework/Resources/bin/R CMD build --keep-empty-dirs --no-resave-data genomes StartedAt: 2025-07-24 17:32:18 -0400 (Thu, 24 Jul 2025) EndedAt: 2025-07-24 17:32:29 -0400 (Thu, 24 Jul 2025) EllapsedTime: 10.3 seconds RetCode: 0 Status: OK PackageFile: genomes_3.39.0.tar.gz PackageFileSize: 98.44 KiB