Package: genomes Version: 3.39.0 Command: /Library/Frameworks/R.framework/Resources/bin/R CMD INSTALL genomes StartedAt: 2025-07-22 15:06:07 -0400 (Tue, 22 Jul 2025) EndedAt: 2025-07-22 15:06:12 -0400 (Tue, 22 Jul 2025) EllapsedTime: 5.1 seconds RetCode: 0 Status: OK