Package: genomes Version: 3.39.0 Command: /Library/Frameworks/R.framework/Resources/bin/R CMD check --install=check:genomes.install-out.txt --library=/Library/Frameworks/R.framework/Resources/library --no-vignettes --timings genomes_3.39.0.tar.gz StartedAt: 2025-07-22 19:26:33 -0400 (Tue, 22 Jul 2025) EndedAt: 2025-07-22 19:26:46 -0400 (Tue, 22 Jul 2025) EllapsedTime: 13.1 seconds RetCode: 0 Status: OK CheckDir: genomes.Rcheck Warnings: 0