Package: genomeIntervals Version: 1.65.0 Command: /home/biocbuild/R/R/bin/R CMD INSTALL genomeIntervals StartedAt: 2025-06-30 20:32:00 -0000 (Mon, 30 Jun 2025) EndedAt: 2025-06-30 20:32:19 -0000 (Mon, 30 Jun 2025) EllapsedTime: 18.3 seconds RetCode: 0 Status: OK