Package: genomeIntervals Version: 1.65.0 Command: /home/biocbuild/R/R/bin/R CMD check --install=check:genomeIntervals.install-out.txt --library=/home/biocbuild/R/R/site-library --no-vignettes --timings genomeIntervals_1.65.0.tar.gz StartedAt: 2025-07-01 07:43:45 -0000 (Tue, 01 Jul 2025) EndedAt: 2025-07-01 07:46:01 -0000 (Tue, 01 Jul 2025) EllapsedTime: 136.1 seconds RetCode: 0 Status: WARNINGS CheckDir: genomeIntervals.Rcheck Warnings: 1