Package: genomeIntervals Version: 1.65.0 Command: /home/biocbuild/R/R/bin/R CMD build --keep-empty-dirs --no-resave-data genomeIntervals StartedAt: 2025-06-30 23:49:46 -0000 (Mon, 30 Jun 2025) EndedAt: 2025-06-30 23:50:13 -0000 (Mon, 30 Jun 2025) EllapsedTime: 27.0 seconds RetCode: 0 Status: OK PackageFile: genomeIntervals_1.65.0.tar.gz PackageFileSize: 248.9 KiB