Package: genomeIntervals Version: 1.65.0 Command: chmod a+r genomeIntervals -R && F:\biocbuild\bbs-3.22-bioc\R\bin\R.exe CMD build --keep-empty-dirs --no-resave-data genomeIntervals StartedAt: 2025-07-01 19:16:25 -0400 (Tue, 01 Jul 2025) EndedAt: 2025-07-01 19:17:23 -0400 (Tue, 01 Jul 2025) EllapsedTime: 57.5 seconds RetCode: 0 Status: OK PackageFile: genomeIntervals_1.65.0.tar.gz PackageFileSize: 140 KiB