Package: genomeIntervals Version: 1.65.0 Command: rm -rf genomeIntervals.buildbin-libdir && mkdir genomeIntervals.buildbin-libdir && F:\biocbuild\bbs-3.22-bioc\R\bin\R.exe CMD INSTALL --build --library=genomeIntervals.buildbin-libdir genomeIntervals_1.65.0.tar.gz StartedAt: 2025-07-02 08:56:08 -0400 (Wed, 02 Jul 2025) EndedAt: 2025-07-02 08:57:18 -0400 (Wed, 02 Jul 2025) EllapsedTime: 70.5 seconds RetCode: 0 Status: OK PackageFile: genomeIntervals_1.65.0.zip PackageFileSize: 567.2 KiB