Package: genomeIntervals Version: 1.65.0 Command: /Library/Frameworks/R.framework/Resources/bin/R CMD INSTALL genomeIntervals StartedAt: 2025-07-20 15:26:31 -0400 (Sun, 20 Jul 2025) EndedAt: 2025-07-20 15:26:51 -0400 (Sun, 20 Jul 2025) EllapsedTime: 20.8 seconds RetCode: 0 Status: OK