Package: genomeIntervals Version: 1.65.0 Command: /Library/Frameworks/R.framework/Resources/bin/R CMD check --install=check:genomeIntervals.install-out.txt --library=/Library/Frameworks/R.framework/Resources/library --no-vignettes --timings genomeIntervals_1.65.0.tar.gz StartedAt: 2025-07-21 20:54:35 -0400 (Mon, 21 Jul 2025) EndedAt: 2025-07-21 20:56:32 -0400 (Mon, 21 Jul 2025) EllapsedTime: 116.3 seconds RetCode: 0 Status: WARNINGS CheckDir: genomeIntervals.Rcheck Warnings: 1