Package: genomeIntervals Version: 1.65.0 Command: /Library/Frameworks/R.framework/Resources/bin/R CMD build --keep-empty-dirs --no-resave-data genomeIntervals StartedAt: 2025-07-20 17:04:17 -0400 (Sun, 20 Jul 2025) EndedAt: 2025-07-20 17:04:47 -0400 (Sun, 20 Jul 2025) EllapsedTime: 29.7 seconds RetCode: 0 Status: OK PackageFile: genomeIntervals_1.65.0.tar.gz PackageFileSize: 255.4 KiB