Package: genomeIntervals Version: 1.65.0 Command: /Library/Frameworks/R.framework/Resources/bin/R CMD INSTALL genomeIntervals StartedAt: 2025-07-01 15:08:35 -0400 (Tue, 01 Jul 2025) EndedAt: 2025-07-01 15:08:40 -0400 (Tue, 01 Jul 2025) EllapsedTime: 5.2 seconds RetCode: 0 Status: OK