Package: genomeIntervals Version: 1.65.0 Command: rm -rf genomeIntervals.buildbin-libdir && mkdir genomeIntervals.buildbin-libdir && /Users/biocbuild/BBS/utils/build-universal.sh genomeIntervals_1.65.0.tar.gz /Library/Frameworks/R.framework/Resources/bin/R genomeIntervals.buildbin-libdir StartedAt: 2025-07-01 22:20:13 -0400 (Tue, 01 Jul 2025) EndedAt: 2025-07-01 22:20:19 -0400 (Tue, 01 Jul 2025) EllapsedTime: 6.1 seconds RetCode: 0 Status: OK PackageFile: genomeIntervals_1.65.0.tgz PackageFileSize: 684 KiB