Package: genomation Version: 1.41.1 Command: /home/biocbuild/bbs-3.22-bioc/R/bin/R CMD INSTALL genomation StartedAt: 2025-10-05 15:28:09 -0400 (Sun, 05 Oct 2025) EndedAt: 2025-10-05 15:28:57 -0400 (Sun, 05 Oct 2025) EllapsedTime: 48.1 seconds RetCode: 0 Status: OK