Package: genoCN Version: 1.59.1 Command: chmod a+r genoCN -R && F:\biocbuild\bbs-3.22-bioc\R\bin\R.exe CMD build --keep-empty-dirs --no-resave-data genoCN StartedAt: 2025-04-08 19:26:42 -0400 (Tue, 08 Apr 2025) EndedAt: 2025-04-08 19:26:46 -0400 (Tue, 08 Apr 2025) EllapsedTime: 4.0 seconds RetCode: 1 Status: ERROR PackageFile: None PackageFileSize: NA