Package: geneplotter Version: 1.87.0 Command: /Library/Frameworks/R.framework/Resources/bin/R CMD build --keep-empty-dirs --no-resave-data geneplotter StartedAt: 2025-10-05 17:08:01 -0400 (Sun, 05 Oct 2025) EndedAt: 2025-10-05 17:08:34 -0400 (Sun, 05 Oct 2025) EllapsedTime: 33.3 seconds RetCode: 0 Status: OK PackageFile: geneplotter_1.87.0.tar.gz PackageFileSize: 1.649 MiB