Package: geneplast Version: 1.35.0 Command: /home/biocbuild/R/R/bin/R CMD INSTALL geneplast StartedAt: 2025-07-24 21:05:38 -0000 (Thu, 24 Jul 2025) EndedAt: 2025-07-24 21:06:15 -0000 (Thu, 24 Jul 2025) EllapsedTime: 37.4 seconds RetCode: 0 Status: OK