Package: geneplast Version: 1.35.0 Command: /home/biocbuild/R/R/bin/R CMD build --keep-empty-dirs --no-resave-data geneplast StartedAt: 2025-07-25 00:47:14 -0000 (Fri, 25 Jul 2025) EndedAt: 2025-07-25 00:47:57 -0000 (Fri, 25 Jul 2025) EllapsedTime: 43.0 seconds RetCode: 0 Status: OK PackageFile: geneplast_1.35.0.tar.gz PackageFileSize: 7.12 MiB