Package: geneplast Version: 1.35.0 Command: /Library/Frameworks/R.framework/Resources/bin/R CMD check --install=check:geneplast.install-out.txt --library=/Library/Frameworks/R.framework/Resources/library --no-vignettes --timings geneplast_1.35.0.tar.gz StartedAt: 2025-07-22 20:57:08 -0400 (Tue, 22 Jul 2025) EndedAt: 2025-07-22 20:58:06 -0400 (Tue, 22 Jul 2025) EllapsedTime: 58.8 seconds RetCode: 0 Status: OK CheckDir: geneplast.Rcheck Warnings: 0