Package: geneplast Version: 1.35.0 Command: rm -rf geneplast.buildbin-libdir && mkdir geneplast.buildbin-libdir && /Users/biocbuild/BBS/utils/build-universal.sh geneplast_1.35.0.tar.gz /Library/Frameworks/R.framework/Resources/bin/R geneplast.buildbin-libdir StartedAt: 2025-07-23 01:07:23 -0400 (Wed, 23 Jul 2025) EndedAt: 2025-07-23 01:07:35 -0400 (Wed, 23 Jul 2025) EllapsedTime: 11.6 seconds RetCode: 0 Status: OK PackageFile: geneplast_1.35.0.tgz PackageFileSize: 4.058 MiB