Package: geneplast Version: 1.35.0 Command: /Library/Frameworks/R.framework/Resources/bin/R CMD INSTALL geneplast StartedAt: 2025-07-24 15:14:07 -0400 (Thu, 24 Jul 2025) EndedAt: 2025-07-24 15:14:18 -0400 (Thu, 24 Jul 2025) EllapsedTime: 10.8 seconds RetCode: 0 Status: OK