Package: geneplast Version: 1.35.0 Command: /Library/Frameworks/R.framework/Resources/bin/R CMD build --keep-empty-dirs --no-resave-data geneplast StartedAt: 2025-07-24 16:33:01 -0400 (Thu, 24 Jul 2025) EndedAt: 2025-07-24 16:33:17 -0400 (Thu, 24 Jul 2025) EllapsedTime: 16.2 seconds RetCode: 0 Status: OK PackageFile: geneplast_1.35.0.tar.gz PackageFileSize: 7.074 MiB