Package: genefu Version: 2.41.0 Command: /home/biocbuild/R/R/bin/R CMD INSTALL genefu StartedAt: 2025-07-24 21:46:15 -0000 (Thu, 24 Jul 2025) EndedAt: 2025-07-24 21:46:47 -0000 (Thu, 24 Jul 2025) EllapsedTime: 31.4 seconds RetCode: 0 Status: OK