Package: genefu Version: 2.41.0 Command: /home/biocbuild/R/R/bin/R CMD build --keep-empty-dirs --no-resave-data genefu StartedAt: 2025-07-25 00:46:35 -0000 (Fri, 25 Jul 2025) EndedAt: 2025-07-25 00:48:07 -0000 (Fri, 25 Jul 2025) EllapsedTime: 92.0 seconds RetCode: 0 Status: OK PackageFile: genefu_2.41.0.tar.gz PackageFileSize: 4.718 MiB