Package: genefu Version: 2.41.0 Command: F:\biocbuild\bbs-3.22-bioc\R\bin\R.exe CMD INSTALL genefu StartedAt: 2025-06-30 17:06:58 -0400 (Mon, 30 Jun 2025) EndedAt: 2025-06-30 17:07:53 -0400 (Mon, 30 Jun 2025) EllapsedTime: 54.7 seconds RetCode: 0 Status: OK