Package: genefu Version: 2.41.0 Command: chmod a+r genefu -R && F:\biocbuild\bbs-3.22-bioc\R\bin\R.exe CMD build --keep-empty-dirs --no-resave-data genefu StartedAt: 2025-06-29 19:13:53 -0400 (Sun, 29 Jun 2025) EndedAt: 2025-06-29 19:15:48 -0400 (Sun, 29 Jun 2025) EllapsedTime: 114.9 seconds RetCode: 0 Status: OK PackageFile: genefu_2.41.0.tar.gz PackageFileSize: 4.637 MiB