Package: genefu Version: 2.41.0 Command: /Library/Frameworks/R.framework/Resources/bin/R CMD build --keep-empty-dirs --no-resave-data genefu StartedAt: 2025-06-29 16:49:40 -0400 (Sun, 29 Jun 2025) EndedAt: 2025-06-29 16:51:04 -0400 (Sun, 29 Jun 2025) EllapsedTime: 84.9 seconds RetCode: 0 Status: OK PackageFile: genefu_2.41.0.tar.gz PackageFileSize: 4.891 MiB