Package: genefu Version: 2.41.0 Command: /Library/Frameworks/R.framework/Resources/bin/R CMD build --keep-empty-dirs --no-resave-data genefu StartedAt: 2025-07-13 16:22:23 -0400 (Sun, 13 Jul 2025) EndedAt: 2025-07-13 16:22:57 -0400 (Sun, 13 Jul 2025) EllapsedTime: 33.4 seconds RetCode: 0 Status: OK PackageFile: genefu_2.41.0.tar.gz PackageFileSize: 4.892 MiB