Package: geneXtendeR Version: 1.35.0 Command: /Library/Frameworks/R.framework/Resources/bin/R CMD INSTALL geneXtendeR StartedAt: 2025-07-21 15:37:31 -0400 (Mon, 21 Jul 2025) EndedAt: 2025-07-21 15:38:38 -0400 (Mon, 21 Jul 2025) EllapsedTime: 66.7 seconds RetCode: 0 Status: OK