Package: geneXtendeR Version: 1.35.0 Command: /Library/Frameworks/R.framework/Resources/bin/R CMD check --install=check:geneXtendeR.install-out.txt --library=/Library/Frameworks/R.framework/Resources/library --no-vignettes --timings geneXtendeR_1.35.0.tar.gz StartedAt: 2025-07-21 20:53:49 -0400 (Mon, 21 Jul 2025) EndedAt: 2025-07-21 21:06:37 -0400 (Mon, 21 Jul 2025) EllapsedTime: 767.8 seconds RetCode: 0 Status: WARNINGS CheckDir: geneXtendeR.Rcheck Warnings: 2