Package: geneXtendeR Version: 1.35.0 Command: /Library/Frameworks/R.framework/Resources/bin/R CMD build --keep-empty-dirs --no-resave-data geneXtendeR StartedAt: 2025-07-21 16:53:34 -0400 (Mon, 21 Jul 2025) EndedAt: 2025-07-21 16:53:38 -0400 (Mon, 21 Jul 2025) EllapsedTime: 4.6 seconds RetCode: 0 Status: OK PackageFile: geneXtendeR_1.35.0.tar.gz PackageFileSize: 11.74 MiB