Package: geneRxCluster Version: 1.45.0 Command: /home/biocbuild/R/R/bin/R CMD check --install=check:geneRxCluster.install-out.txt --library=/home/biocbuild/R/R/site-library --no-vignettes --timings geneRxCluster_1.45.0.tar.gz StartedAt: 2025-07-22 07:34:41 -0000 (Tue, 22 Jul 2025) EndedAt: 2025-07-22 07:36:03 -0000 (Tue, 22 Jul 2025) EllapsedTime: 82.1 seconds RetCode: 0 Status: OK CheckDir: geneRxCluster.Rcheck Warnings: 0