Package: geneRecommender Version: 1.81.0 Command: /home/biocbuild/R/R/bin/R CMD INSTALL geneRecommender StartedAt: 2025-10-02 20:32:32 -0000 (Thu, 02 Oct 2025) EndedAt: 2025-10-02 20:32:40 -0000 (Thu, 02 Oct 2025) EllapsedTime: 8.4 seconds RetCode: 0 Status: OK