Package: geneClassifiers Version: 1.33.0 Command: /home/biocbuild/R/R/bin/R CMD build --keep-empty-dirs --no-resave-data geneClassifiers StartedAt: 2025-07-21 23:53:51 -0000 (Mon, 21 Jul 2025) EndedAt: 2025-07-21 23:54:04 -0000 (Mon, 21 Jul 2025) EllapsedTime: 13.0 seconds RetCode: 0 Status: OK PackageFile: geneClassifiers_1.33.0.tar.gz PackageFileSize: 1.83 MiB