Package: geneAttribution Version: 1.35.0 Maintainer: Arthur Wuster MaintainerEmail: wustera at gene.com git_url: https://git.bioconductor.org/packages/geneAttribution git_branch: devel git_last_commit: d1614f7 git_last_commit_date: 2025-04-15 11:04:45 -0400 (Tue, 15 Apr 2025)